BEGIN:VCALENDAR
VERSION:2.0
PRODID:-//eventon.com NONSGML v1.0//EN
CALSCALE:GREGORIAN
METHOD:PUBLISH
BEGIN:VEVENT
UID:69e4d8c3bf7be
DTSTAMP:20260419T232939
DTSTART:20260531T160000Z
DTEND:20260531T235900Z
TZID:Pacific/Auckland
LOCATION:
SUMMARY:David Fung
DESCRIPTION:The Piano\,  Christchurch\,  presents: Sundays at 4: David Fung\,  piano Programme: W. A. Mozart Piano Sonata in F Major\,  K. 332 Domenico Scarlatti Sonata in D minor\,  K. 32 “Aria; Sonata in D minor\,  K. 141 “Toccata” Franz Schubert Piano Sonata No. 21 in B Flat Major\,  D.960 Praised for[..]\nhttps://www.cinqueartistmanagement.com/events/david-fung-solo/
URL:https://www.cinqueartistmanagement.com/events/david-fung-solo/
END:VEVENT
END:VCALENDAR