BEGIN:VCALENDAR
VERSION:2.0
PRODID:-//eventon.com NONSGML v1.0//EN
CALSCALE:GREGORIAN
METHOD:PUBLISH
BEGIN:VEVENT
UID:69e4d91952c67
DTSTAMP:20260419T233105
DTSTART:20260530T193000Z
DTEND:20260530T235900Z
TZID:Pacific/Auckland
LOCATION:
SUMMARY:David Fung
DESCRIPTION:Orchestra Wellington (cond. Marc Taddei) presents: W:ELLINGTON Programme: Chichester Psalms Leonard Bernstein (1918–1990) Piano Concerto in F George Gershwin (1898–1937) David Fung\,  piano Concerto for Jazz Band and Orchestra Rolf Liebermann (1910–1999) Harlem Duke Ellington (1899–1974) This event is presented with support from Te Kōkī New Zealand School of Music\, [..]\nhttps://www.cinqueartistmanagement.com/events/david-fung-3/
URL:https://www.cinqueartistmanagement.com/events/david-fung-3/
END:VEVENT
END:VCALENDAR