BEGIN:VCALENDAR
VERSION:2.0
PRODID:-//eventon.com NONSGML v1.0//EN
CALSCALE:GREGORIAN
METHOD:PUBLISH
BEGIN:VEVENT
UID:69e4d8fa4b6bc
DTSTAMP:20260419T233034
DTSTART:20260529T193000Z
DTEND:20260529T235900Z
TZID:Australia/Sydney
LOCATION:
SUMMARY:Tamara-Anna Cislowska & Elena Kats-Chernin
DESCRIPTION:Peninsula Music Club (NSW) presents its closing celebration concert\,  featuring: Tamara-Anna Cislowska\,  piano Elena Kats-Chernin\,  piano &amp; Jane Rutter\,  flutes &nbsp;\nhttps://www.cinqueartistmanagement.com/events/tamara-anna-cislowska-ekc/
URL:https://www.cinqueartistmanagement.com/events/tamara-anna-cislowska-ekc/
END:VEVENT
END:VCALENDAR