BEGIN:VCALENDAR
VERSION:2.0
PRODID:-//eventon.com NONSGML v1.0//EN
CALSCALE:GREGORIAN
METHOD:PUBLISH
BEGIN:VEVENT
UID:69e4d847aeb51
DTSTAMP:20260419T232735
DTSTART:20260520T193000Z
DTEND:20260520T235900Z
TZID:Australia/Sydney
LOCATION:
SUMMARY:Tamara-Anna Cislowska
DESCRIPTION:Canberra Symphony Orchestra presents 2026 Llewellyn Series SEA AND STARS PROGRAM Deborah Cheetham Fraillon Dutala – Star Filled Sky George Gershwin Rhapsody in Blue (Ferde Grofé orchestration) Claude Debussy La Mer ARTISTS Jessica Cottis conductor Tamara-Anna Cislowska piano Canberra Symphony Orchestra CSO Chorus &nbsp; &nbsp;\nhttps://www.cinqueartistmanagement.com/events/tamara-anna-cislowska-cso/
URL:https://www.cinqueartistmanagement.com/events/tamara-anna-cislowska-cso/
END:VEVENT
END:VCALENDAR