BEGIN:VCALENDAR
VERSION:2.0
PRODID:-//eventon.com NONSGML v1.0//EN
CALSCALE:GREGORIAN
METHOD:PUBLISH
BEGIN:VEVENT
UID:69e4d93ddb139
DTSTAMP:20260419T233141
DTSTART:20260517T170000Z
DTEND:20260517T235900Z
TZID:Australia/Sydney
LOCATION:
SUMMARY:Tamara-Anna Cislowska
DESCRIPTION:Canberra Symphony Orchestra presents Tamara-Anna Cislowska\,  piano Solo recital for community outreach program &nbsp;\nhttps://www.cinqueartistmanagement.com/events/tamara-anna-cislowska-5/
URL:https://www.cinqueartistmanagement.com/events/tamara-anna-cislowska-5/
END:VEVENT
END:VCALENDAR