BEGIN:VCALENDAR
VERSION:2.0
PRODID:-//eventon.com NONSGML v1.0//EN
CALSCALE:GREGORIAN
METHOD:PUBLISH
BEGIN:VEVENT
UID:69e4d8f8e4b57
DTSTAMP:20260419T233032
DTSTART:20260516T193000Z
DTEND:20260516T235900Z
TZID:Australia/Sydney
LOCATION:
SUMMARY:Tamara-Anna Cislowska
DESCRIPTION:Coffs Harbour Music Society presents ANCIENT LETTERS Tamara-Anna Cislowska\,  piano Music by Bach\,  Beethoven\,  Rachmaninoff\,  Debussy\,  Elena Kats-Chernin &nbsp;\nhttps://www.cinqueartistmanagement.com/events/tamara-anna-cislowska-coffs/
URL:https://www.cinqueartistmanagement.com/events/tamara-anna-cislowska-coffs/
END:VEVENT
END:VCALENDAR