BEGIN:VCALENDAR
VERSION:2.0
PRODID:-//eventon.com NONSGML v1.0//EN
CALSCALE:GREGORIAN
METHOD:PUBLISH
BEGIN:VEVENT
UID:69e4d8f901c2c
DTSTAMP:20260419T233033
DTSTART:20260505T110000Z
DTEND:20260505T235900Z
TZID:Australia/Sydney
LOCATION:
SUMMARY:Tamara-Anna Cislowska
DESCRIPTION:The Pavilion presents ANCIENT LETTERS Tamara-Anna Cislowska\,  piano Join ABC Classic presenter and ARIA award-winning pianist Tamara Anna-Cislowska on an unparalleled journey of musical reflection. Hailed as an Australian treasure with dazzling virtuosity and poetic sensitivity\,  Cislowska crafts and explores a program designed to inspire and move. Experience the sublime\, [..]\nhttps://www.cinqueartistmanagement.com/events/tamara-anna-cislowska-pavilion/
URL:https://www.cinqueartistmanagement.com/events/tamara-anna-cislowska-pavilion/
END:VEVENT
END:VCALENDAR