BEGIN:VCALENDAR
VERSION:2.0
PRODID:-//eventon.com NONSGML v1.0//EN
CALSCALE:GREGORIAN
METHOD:PUBLISH
BEGIN:VEVENT
UID:69e4d8bc6f113
DTSTAMP:20260419T232932
DTSTART:20260411T190000Z
DTEND:20260411T235900Z
TZID:Australia/Sydney
LOCATION:
SUMMARY:Hetty Kate
DESCRIPTION:TAC JAZZ presents HETTY KATE QUARTET with Ben Hauptmann\,  guitar Chris Pound\,  double bass Nick McBride\,  drums &nbsp;\nhttps://www.cinqueartistmanagement.com/events/hetty-kate-tac-jazz/
URL:https://www.cinqueartistmanagement.com/events/hetty-kate-tac-jazz/
END:VEVENT
END:VCALENDAR