BEGIN:VCALENDAR
VERSION:2.0
PRODID:-//eventon.com NONSGML v1.0//EN
CALSCALE:GREGORIAN
METHOD:PUBLISH
BEGIN:VEVENT
UID:69e4d91808284
DTSTAMP:20260419T233104
DTSTART:20260412T193000Z
DTEND:20260412T235900Z
TZID:Australia/Sydney
LOCATION:
SUMMARY:Hetty Kate
DESCRIPTION:Art Gallery Society of NSW presents HETTY KATE: NEW WAVE &#8211; REIMAGINED with Ben Hauptmann\,  guitar Karl Dunnicliff\,  double bass Hamish Stuart\,  drums &nbsp;\nhttps://www.cinqueartistmanagement.com/events/hetty-kate-agnsw/
URL:https://www.cinqueartistmanagement.com/events/hetty-kate-agnsw/
END:VEVENT
END:VCALENDAR