BEGIN:VCALENDAR
VERSION:2.0
PRODID:-//eventon.com NONSGML v1.0//EN
CALSCALE:GREGORIAN
METHOD:PUBLISH
BEGIN:VEVENT
UID:69e4d88b9c6f9
DTSTAMP:20260419T232843
DTSTART:20260409T190000Z
DTEND:20260409T235900Z
TZID:Australia/Perth
LOCATION:
SUMMARY:Hetty Kate
DESCRIPTION:Ellington Jazz Club presents HETTY KATE SWINGS THE STANDARDS Nurtured in Melbourne’s vibrant jazz scene\,  Hetty’s musical journey has since spanned 28 countries\,  with performances at major international festivals and a significant tenure as the featured vocalist in Australian jazz luminary James Morrison’s touring bands\,  including his award-winning symphonic concert[..]\nhttps://www.cinqueartistmanagement.com/events/hetty-kate-ellington/
URL:https://www.cinqueartistmanagement.com/events/hetty-kate-ellington/
END:VEVENT
END:VCALENDAR