BEGIN:VCALENDAR
VERSION:2.0
PRODID:-//eventon.com NONSGML v1.0//EN
CALSCALE:GREGORIAN
METHOD:PUBLISH
BEGIN:VEVENT
UID:69e4d8c4ce96d
DTSTAMP:20260419T232940
DTSTART:20260424T193000Z
DTEND:20260424T235900Z
TZID:Australia/Sydney
LOCATION:
SUMMARY:Sally Walker
DESCRIPTION:Salut! Baroque 2026 season Invitation to the Dance “Music and dance are all you need.” Molière: Le bourgeois gentilhomme (1670) Dance and diplomacy were inseparable at Louis XIV’s opulent palace in Versailles. Every aspect of the palace was designed to reinforce the King’s absolute authority\,  and Louis protected his political[..]\nhttps://www.cinqueartistmanagement.com/events/sally-walker-salutbaroque-3/
URL:https://www.cinqueartistmanagement.com/events/sally-walker-salutbaroque-3/
END:VEVENT
END:VCALENDAR