BEGIN:VCALENDAR
VERSION:2.0
PRODID:-//eventon.com NONSGML v1.0//EN
CALSCALE:GREGORIAN
METHOD:PUBLISH
BEGIN:VEVENT
UID:69e4d96daf13e
DTSTAMP:20260419T233229
DTSTART:20260416
DTEND:20260419
TZID:Australia/Sydney
LOCATION:
SUMMARY:Sally Walker
DESCRIPTION:Wagga Weekender Music Festival 2026 1:1 Concerts presented by Sally Walker\,  with Rachael Thoms\,  Larissa Burak\,  Harold Gretton and host Anne Clarke\nhttps://www.cinqueartistmanagement.com/events/sally-walker-5/
URL:https://www.cinqueartistmanagement.com/events/sally-walker-5/
END:VEVENT
END:VCALENDAR