BEGIN:VCALENDAR
VERSION:2.0
PRODID:-//eventon.com NONSGML v1.0//EN
CALSCALE:GREGORIAN
METHOD:PUBLISH
BEGIN:VEVENT
UID:69e4d8c425b6d
DTSTAMP:20260419T232940
DTSTART:20260523T140000Z
DTEND:20260523T235900Z
TZID:Australia/Sydney
LOCATION:
SUMMARY:Simon Tedeschi
DESCRIPTION:Bouddi Arts Foundation presents BRIGHT STAR with John Bell AO OBE\,  narrator\,  and Simon Tedeschi\,  piano One of Bell and Tedeschi&#8217;s enduring creative collaborations\,  &#8216;Bright Star&#8217; explores the lives\,  loves\,  words and music of two of the great Romantic artists: composer Franz Schubert\,  and poet John Keats.\nhttps://www.cinqueartistmanagement.com/events/simon-tedeschi-bright-star/
URL:https://www.cinqueartistmanagement.com/events/simon-tedeschi-bright-star/
END:VEVENT
END:VCALENDAR