BEGIN:VCALENDAR
VERSION:2.0
PRODID:-//eventon.com NONSGML v1.0//EN
CALSCALE:GREGORIAN
METHOD:PUBLISH
BEGIN:VEVENT
UID:69e4d96cf2725
DTSTAMP:20260419T233228
DTSTART:20260514T190000Z
DTEND:20260514T235900Z
TZID:Australia/Sydney
LOCATION:
SUMMARY:Simon Tedeschi
DESCRIPTION:Camelot Lounge presents Simon Tedeschi with renowned violinist\,  Andrew Haveron (SSO Concertmaster) ARIA-nominated pianist Simon Tedeschi returns to Camelot Lounge with renowned violinist Andrew Haveron\,  esteemed concertmaster of the Sydney Symphony Orchestra. Performing Schubert&#8217;s &#8216;Grand Duo&#8217; sonata\,  Grieg&#8217;s thrilling third sonata for piano and violin\,  alongside Ravel&#8217;s work inspired by[..]\nhttps://www.cinqueartistmanagement.com/events/simon-tedeschi-andrew-haveron/
URL:https://www.cinqueartistmanagement.com/events/simon-tedeschi-andrew-haveron/
END:VEVENT
END:VCALENDAR