BEGIN:VCALENDAR
VERSION:2.0
PRODID:-//eventon.com NONSGML v1.0//EN
CALSCALE:GREGORIAN
METHOD:PUBLISH
BEGIN:VEVENT
UID:69e4d91820ca2
DTSTAMP:20260419T233104
DTSTART:20260509T133000Z
DTEND:20260509T235900Z
TZID:Australia/Sydney
LOCATION:
SUMMARY:Simon Tedeschi
DESCRIPTION:Avoca Beach Picture Theatre presents Simon Tedeschi : Solo and By Request Simon Tedeschi returns to Avoca for an intimate\,  unscripted evening at the piano! No set list. No safety net. You nominate the composer &#8211; he will play them (if he knows them). From Bach to Beethoven\,  Gershwin to[..]\nhttps://www.cinqueartistmanagement.com/events/simon-tedeschi-avoca-solo/
URL:https://www.cinqueartistmanagement.com/events/simon-tedeschi-avoca-solo/
END:VEVENT
END:VCALENDAR