BEGIN:VCALENDAR
VERSION:2.0
PRODID:-//eventon.com NONSGML v1.0//EN
CALSCALE:GREGORIAN
METHOD:PUBLISH
BEGIN:VEVENT
UID:69e4d8a07b8c9
DTSTAMP:20260419T232904
DTSTART:20260426T190000Z
DTEND:20260426T235900Z
TZID:Australia/Sydney
LOCATION:
SUMMARY:Simon Tedeschi
DESCRIPTION:Music at VJ&#8217;s Simon Tedeschi (piano) &#8216;By Requests&#8217; with special guest\,  violinist Ben Adler\nhttps://www.cinqueartistmanagement.com/events/simon-tedeschi-vjs/
URL:https://www.cinqueartistmanagement.com/events/simon-tedeschi-vjs/
END:VEVENT
END:VCALENDAR