BEGIN:VCALENDAR
VERSION:2.0
PRODID:-//eventon.com NONSGML v1.0//EN
CALSCALE:GREGORIAN
METHOD:PUBLISH
BEGIN:VEVENT
UID:69e4d91d5e185
DTSTAMP:20260419T233109
DTSTART:20260423T110000Z
DTEND:20260423T235900Z
TZID:Australia/Sydney
LOCATION:
SUMMARY:Simon Tedeschi
DESCRIPTION:2026 Powerhouse Matinee Concert Series Gershwin &amp; More Simon Tedeschi (piano)\,  and George Washingmachine (jazz vocals\,  violin)\nhttps://www.cinqueartistmanagement.com/events/simon-tedeschi-liverpool/
URL:https://www.cinqueartistmanagement.com/events/simon-tedeschi-liverpool/
END:VEVENT
END:VCALENDAR