BEGIN:VCALENDAR
VERSION:2.0
PRODID:-//eventon.com NONSGML v1.0//EN
CALSCALE:GREGORIAN
METHOD:PUBLISH
BEGIN:VEVENT
UID:69e4d8ea67968
DTSTAMP:20260419T233018
DTSTART:20260401T120000Z
DTEND:20260401T235900Z
TZID:Australia/Sydney
LOCATION:
SUMMARY:Simon Tedeschi
DESCRIPTION:Live At Lunch 2026 Gershwin\,  Porter &amp; More Simon Tedeschi (piano)\,  and George Washingmachine (jazz vocals\,  violin) with presenter\,  Jane Rutter\,  flutes &nbsp; The Concourse\,  Concert Hall\nhttps://www.cinqueartistmanagement.com/events/simon-tedeschi-lal/
URL:https://www.cinqueartistmanagement.com/events/simon-tedeschi-lal/
END:VEVENT
END:VCALENDAR