BEGIN:VCALENDAR
VERSION:2.0
PRODID:-//eventon.com NONSGML v1.0//EN
CALSCALE:GREGORIAN
METHOD:PUBLISH
BEGIN:VEVENT
UID:69e4d88b9b1b4
DTSTAMP:20260419T232843
DTSTART:20260521T193000Z
DTEND:20260521T235900Z
TZID:Australia/Sydney
LOCATION:
SUMMARY:Jazz At The Lounge 2026: Peter Locke Trio feat. Kate Wadey
DESCRIPTION:Jazz At The Lounge 2026 Concert 3: PETER LOCKE TRIO with special guest\,  jazz vocalist KATE WADEY If you love the piano\,  you’ll love hearing one of Australia&#8217;s most highly respected jazz pianists and musical directors\,  Peter Locke. Renowned for his deft touch and lyrical style on the keys\,  expect[..]\nhttps://www.cinqueartistmanagement.com/events/jazz-at-the-lounge-2026-3/
URL:https://www.cinqueartistmanagement.com/events/jazz-at-the-lounge-2026-3/
END:VEVENT
END:VCALENDAR