BEGIN:VCALENDAR
VERSION:2.0
PRODID:-//eventon.com NONSGML v1.0//EN
CALSCALE:GREGORIAN
METHOD:PUBLISH
BEGIN:VEVENT
UID:69e4d8a1b8df1
DTSTAMP:20260419T232905
DTSTART:20260416T193000Z
DTEND:20260416T235900Z
TZID:Australia/Sydney
LOCATION:
SUMMARY:Jazz At The Lounge 2026: James Morrison Quartet  - sold out
DESCRIPTION:Jazz At The Lounge 2026 Concert 2: JAMES MORRISON QUARTET with special guest\,  vocalist DARREN PERCIVAL [SOLD OUT]\nhttps://www.cinqueartistmanagement.com/events/jazz-at-the-lounge-2026-2/
URL:https://www.cinqueartistmanagement.com/events/jazz-at-the-lounge-2026-2/
END:VEVENT
END:VCALENDAR