BEGIN:VCALENDAR
VERSION:2.0
PRODID:-//eventon.com NONSGML v1.0//EN
CALSCALE:GREGORIAN
METHOD:PUBLISH
BEGIN:VEVENT
UID:69e4d8e957473
DTSTAMP:20260419T233017
DTSTART:20260308
DTEND:20260316
TZID:America/Phoenix
LOCATION:
SUMMARY:David Fung
DESCRIPTION:The Tucson Winter Chamber Music Festival continues to be recognized as one of the finest chamber music festivals in the world\,  celebrated for both its exceptional artistry and thoughtfully curated repertoire. In 2026\,  Peter Rejto and Bernadette Harvey return for their second year as Artistic Co-Directors\,  guiding the Festival into[..]\nhttps://www.cinqueartistmanagement.com/events/david-fung-2/
URL:https://www.cinqueartistmanagement.com/events/david-fung-2/
END:VEVENT
END:VCALENDAR