BEGIN:VCALENDAR
VERSION:2.0
PRODID:-//eventon.com NONSGML v1.0//EN
CALSCALE:GREGORIAN
METHOD:PUBLISH
BEGIN:VEVENT
UID:69e4d86ccf561
DTSTAMP:20260419T232812
DTSTART:20260326T193000Z
DTEND:20260326T235900Z
TZID:Australia/Sydney
LOCATION:
SUMMARY:Jazz At The Lounge 2026: Zela Margossian Quintet
DESCRIPTION:Jazz At The Lounge 2026 kicks off with the ARIA award-winning Zela Margossian Quintet!\nhttps://www.cinqueartistmanagement.com/events/jazz-at-the-lounge-2026/
URL:https://www.cinqueartistmanagement.com/events/jazz-at-the-lounge-2026/
END:VEVENT
END:VCALENDAR