BEGIN:VCALENDAR
VERSION:2.0
PRODID:-//eventon.com NONSGML v1.0//EN
CALSCALE:GREGORIAN
METHOD:PUBLISH
BEGIN:VEVENT
UID:69e4d86bb4d94
DTSTAMP:20260419T232811
DTSTART:20260302T180000Z
DTEND:20260302T235900Z
TZID:Australia/Sydney
LOCATION:
SUMMARY:Elena Kats-Chernin
DESCRIPTION:True South: Gala Q&amp;A Screening with live performance by Elena Kats-Chernin AO Hosted by Sigrid Thornton AO\nhttps://www.cinqueartistmanagement.com/events/elena-kats-chernin-3/
URL:https://www.cinqueartistmanagement.com/events/elena-kats-chernin-3/
END:VEVENT
END:VCALENDAR