BEGIN:VCALENDAR
VERSION:2.0
PRODID:-//eventon.com NONSGML v1.0//EN
CALSCALE:GREGORIAN
METHOD:PUBLISH
BEGIN:VEVENT
UID:69e4d847eff57
DTSTAMP:20260419T232735
DTSTART:20260325
DTEND:20260330
TZID:Australia/Melbourne
LOCATION:
SUMMARY:Andrea Lam
DESCRIPTION:Australian String Quartet: Dunkeld Festival of Music 2026 Various performances\,  with Andrea Lam as guest pianist\nhttps://www.cinqueartistmanagement.com/events/andrea-lam-dunkeld/
URL:https://www.cinqueartistmanagement.com/events/andrea-lam-dunkeld/
END:VEVENT
END:VCALENDAR