BEGIN:VCALENDAR
VERSION:2.0
PRODID:-//eventon.com NONSGML v1.0//EN
CALSCALE:GREGORIAN
METHOD:PUBLISH
BEGIN:VEVENT
UID:69e4d91d12a49
DTSTAMP:20260419T233109
DTSTART:20260321T190000Z
DTEND:20260321T235900Z
TZID:Australia/Melbourne
LOCATION:
SUMMARY:Andrea Lam
DESCRIPTION:Castlemaine State Festival presents: Andrea Lam and the Australian String Quartet Program: Chopin Piano Concerto no.1 &#8212; Brahms Piano Quintet\nhttps://www.cinqueartistmanagement.com/events/andrea-lam-csf/
URL:https://www.cinqueartistmanagement.com/events/andrea-lam-csf/
END:VEVENT
END:VCALENDAR