BEGIN:VCALENDAR
VERSION:2.0
PRODID:-//eventon.com NONSGML v1.0//EN
CALSCALE:GREGORIAN
METHOD:PUBLISH
BEGIN:VEVENT
UID:69e4d93f55bc1
DTSTAMP:20260419T233143
DTSTART:20260314T193000Z
DTEND:20260314T235900Z
TZID:Australia/Sydney
LOCATION:
SUMMARY:Andrea Lam
DESCRIPTION:Australia Ensemble @ UNSW &#8211; Concert 1 with guest pianist\,  Andrea Lam KATS-CHERNIN The Grand Rag [2021] ROTA Trio [1973] SHOSTAKOVICH Piano Trio no.1 [1923] STRAVINSKY The Solider&#8217;s Tale (full version) [1918] &nbsp;\nhttps://www.cinqueartistmanagement.com/events/andrea-lam-ae/
URL:https://www.cinqueartistmanagement.com/events/andrea-lam-ae/
END:VEVENT
END:VCALENDAR