BEGIN:VCALENDAR
VERSION:2.0
PRODID:-//eventon.com NONSGML v1.0//EN
CALSCALE:GREGORIAN
METHOD:PUBLISH
BEGIN:VEVENT
UID:69e4d8baf2d7d
DTSTAMP:20260419T232930
DTSTART:20260301
DTEND:20260302
TZID:Australia/Brisbane
LOCATION:
SUMMARY:Karin Schaupp
DESCRIPTION:Southern Cross Soloists present HUSH In a world that hums with distraction\,  chamber music offers a rare invitation to pause\,  to look inwards. Karin Schaupp\,  “one of the world’s top classical guitarists” (The Australian)\,  joins the Southern Cross Soloists (SXS) for a journey from dazzling light to calming night. The[..]\nhttps://www.cinqueartistmanagement.com/events/karin-schaupp-sxs/
URL:https://www.cinqueartistmanagement.com/events/karin-schaupp-sxs/
END:VEVENT
END:VCALENDAR