BEGIN:VCALENDAR
VERSION:2.0
PRODID:-//eventon.com NONSGML v1.0//EN
CALSCALE:GREGORIAN
METHOD:PUBLISH
BEGIN:VEVENT
UID:69e4d86ba71ea
DTSTAMP:20260419T232811
DTSTART:20260329T170000Z
DTEND:20260329T235900Z
TZID:Australia/Sydney
LOCATION:
SUMMARY:Simon Tedeschi
DESCRIPTION:House concert &#8211; Program of works by Schumann\,  Ravel and Gershwin Andrew Haveron\,  violin Simon Tedeschi\,  piano\nhttps://www.cinqueartistmanagement.com/events/simon-tedeschi-andrewhaveron/
URL:https://www.cinqueartistmanagement.com/events/simon-tedeschi-andrewhaveron/
END:VEVENT
END:VCALENDAR