BEGIN:VCALENDAR
VERSION:2.0
PRODID:-//eventon.com NONSGML v1.0//EN
CALSCALE:GREGORIAN
METHOD:PUBLISH
BEGIN:VEVENT
UID:69e4d8a07d785
DTSTAMP:20260419T232904
DTSTART:20260305T200000Z
DTEND:20260305T235900Z
TZID:Australia/Sydney
LOCATION:
SUMMARY:Simon Tedeschi
DESCRIPTION:Camelot Lounge presents Simon Tedeschi  &#8211; with special guest\,  violinist Ben Adler \nhttps://www.cinqueartistmanagement.com/events/simon-tedeschi-camelot3/
URL:https://www.cinqueartistmanagement.com/events/simon-tedeschi-camelot3/
END:VEVENT
END:VCALENDAR