BEGIN:VCALENDAR
VERSION:2.0
PRODID:-//eventon.com NONSGML v1.0//EN
CALSCALE:GREGORIAN
METHOD:PUBLISH
BEGIN:VEVENT
UID:69e4e998c7aa3
DTSTAMP:20260420T004128
DTSTART:20251029T193000Z
DTEND:20251029T235900Z
TZID:UTC
LOCATION:
SUMMARY:Tamara-Anna Cislowska
DESCRIPTION:ACO 50th Anniversary season: MOUNTAIN Created in collaboration with BAFTA-nominated director and filmmaker Jennifer Peedom (Sherpa 2015\,  River 2021)\,  Mountain pushed the creative possibilities of presenting music and film live in concert in an innovative new direction. Tognetti and Peedom worked closely to assemble footage and soundscapes that collectively showcased[..]\nhttps://www.cinqueartistmanagement.com/events/tamara-anna-cislowska-aco-2/
URL:https://www.cinqueartistmanagement.com/events/tamara-anna-cislowska-aco-2/
END:VEVENT
END:VCALENDAR