BEGIN:VCALENDAR
VERSION:2.0
PRODID:-//eventon.com NONSGML v1.0//EN
CALSCALE:GREGORIAN
METHOD:PUBLISH
BEGIN:VEVENT
UID:69e7495d13d56
DTSTAMP:20260421T195437
DTSTART:20251011
DTEND:20251013
TZID:Australia/Sydney
LOCATION:
SUMMARY:Andrea Lam
DESCRIPTION:Melbourne Conservatorium of Music PIANO FESTIVAL 2025 Andrea Lam in performances\,  masterclass and panel discussions\nhttps://www.cinqueartistmanagement.com/events/andrea-lam-mcm-piano-festival/
URL:https://www.cinqueartistmanagement.com/events/andrea-lam-mcm-piano-festival/
END:VEVENT
END:VCALENDAR