BEGIN:VCALENDAR
VERSION:2.0
PRODID:-//eventon.com NONSGML v1.0//EN
CALSCALE:GREGORIAN
METHOD:PUBLISH
BEGIN:VEVENT
UID:69e748a05035d
DTSTAMP:20260421T195128
DTSTART:20250411T220000Z
DTEND:20250411T235900Z
TZID:Australia/Sydney
LOCATION:
SUMMARY:Paavali Jumppanen
DESCRIPTION:Australian National Academy of Music presents Boulez Rules! The Power of Idea – Boulez at the piano Frederic CHOPIN Nocturne in D flat Pierre BOULEZ 12 Notations Pierre BOULEZ Piano Sonata No. 3\,  Formant 3 Frederic CHOPIN Nocturne in C Minor\,  op.48 no. 1 Pierre BOULEZ Piano Sonata No. 2 ANAM pianos Paavali Jumppanen (ANAM Artistic Director)\nhttps://www.cinqueartistmanagement.com/events/paavali-jumppanen-anam-3/
URL:https://www.cinqueartistmanagement.com/events/paavali-jumppanen-anam-3/
END:VEVENT
END:VCALENDAR