BEGIN:VCALENDAR
VERSION:2.0
PRODID:-//eventon.com NONSGML v1.0//EN
CALSCALE:GREGORIAN
METHOD:PUBLISH
BEGIN:VEVENT
UID:69e7495e1e376
DTSTAMP:20260421T195438
DTSTART:20240721T150000Z
DTEND:20240721T235900Z
TZID:Europe/Helsinki
LOCATION:
SUMMARY:Paavali Jumpanen
DESCRIPTION:Savonlinna Academy of Music\,  in cooperation with Nova Records presents Paavali Jumpanen&#8217;s (piano) 50th anniversary concert &nbsp;\nhttps://www.cinqueartistmanagement.com/events/paavali-jumpanen-50th/
URL:https://www.cinqueartistmanagement.com/events/paavali-jumpanen-50th/
END:VEVENT
END:VCALENDAR