BEGIN:VCALENDAR
VERSION:2.0
PRODID:-//eventon.com NONSGML v1.0//EN
CALSCALE:GREGORIAN
METHOD:PUBLISH
BEGIN:VEVENT
UID:69e7484846160
DTSTAMP:20260421T195000
DTSTART:20240224T154500Z
DTEND:20240224T235900Z
TZID:Australia/Sydney
LOCATION:
SUMMARY:Paavali Jumppanen
DESCRIPTION:3MBS 2024 Marathon presents TRANSFIGURED Concert 3: Essence Ludwig van Beethoven—String Quartet No.10 in E-flat Major\,  Op.74 Harp Fidelio Quartet: Isin Cakmakcioglu violin Michael Loftus Hills violin Gabrielle Halloran viola Rachel Atkinson cello Frédéric Chopin—Berceuse\,  Op.57 Frédéric Chopin—Sonata No.2 in B-flat minor\,  Op.35 Funeral March Paavali Jumppanen piano Listen here:[..]\nhttps://www.cinqueartistmanagement.com/events/paavali-jumppanen-3/
URL:https://www.cinqueartistmanagement.com/events/paavali-jumppanen-3/
END:VEVENT
END:VCALENDAR