BEGIN:VCALENDAR
VERSION:2.0
PRODID:-//eventon.com NONSGML v1.0//EN
CALSCALE:GREGORIAN
METHOD:PUBLISH
BEGIN:VEVENT
UID:69e4eb065bfbc
DTSTAMP:20260420T004734
DTSTART:20231124T200000Z
DTEND:20231124T235000Z
TZID:Australia/Sydney
LOCATION:
SUMMARY:Orava Quartet
DESCRIPTION:Shoalhaven Entertainment Centre presents the Orava Quartet in &#8216;Renaissance to Romance&#8217; [sold out]\nhttps://www.cinqueartistmanagement.com/events/orava-quartet-nowra/
URL:https://www.cinqueartistmanagement.com/events/orava-quartet-nowra/
END:VEVENT
END:VCALENDAR