BEGIN:VCALENDAR
VERSION:2.0
PRODID:-//eventon.com NONSGML v1.0//EN
CALSCALE:GREGORIAN
METHOD:PUBLISH
BEGIN:VEVENT
UID:69e74e4060e2d
DTSTAMP:20260421T201528
DTSTART:20231012T193000Z
DTEND:20231012T235000Z
TZID:Australia/Sydney
LOCATION:
SUMMARY:Paavali Jumpanen
DESCRIPTION:Melbourne Chamber Orchestra presents Mozart &amp; Beethoven Concertos In 1787\,  a 17-year-old Beethoven made the journey from Bonn to Vienna—further than Melbourne to Sydney. Did he meet the 30-year-old Mozart\,  in the few weeks they were in the same city? Was there a metaphorical handing over of the baton of[..]\nhttps://www.cinqueartistmanagement.com/events/paavali-jumpanen-mco2/
URL:https://www.cinqueartistmanagement.com/events/paavali-jumpanen-mco2/
END:VEVENT
END:VCALENDAR