BEGIN:VCALENDAR
VERSION:2.0
PRODID:-//eventon.com NONSGML v1.0//EN
CALSCALE:GREGORIAN
METHOD:PUBLISH
BEGIN:VEVENT
UID:69e74e26a4493
DTSTAMP:20260421T201502
DTSTART:20230916T140000Z
DTEND:20230916T235000Z
TZID:Australia/Sydney
LOCATION:
SUMMARY:Emily Sun
DESCRIPTION:Sydney Symphony Orchestra presents BEETHOVEN 7 &amp; BRUCH&#8217;S VIOLIN CONCERTO This performance\,  conducted by Mark Wigglesworth\,  has two masterpieces to rediscover. Bruch’s Violin Concerto No.1 is his most famous work\,  perfectly capturing the intensity of romance. Through all the emotions\,  there’s a wonderful sense of momentum urging us forward. You’ll[..]\nhttps://www.cinqueartistmanagement.com/events/emily-sun-sso2/
URL:https://www.cinqueartistmanagement.com/events/emily-sun-sso2/
END:VEVENT
END:VCALENDAR